BEGIN:VCALENDAR
VERSION:2.0
PRODID:-//Tasting Room Magazine - ECPv6.15.17.1//NONSGML v1.0//EN
CALSCALE:GREGORIAN
METHOD:PUBLISH
X-ORIGINAL-URL:https://www.washingtontastingroom.com
X-WR-CALDESC:Events for Tasting Room Magazine
REFRESH-INTERVAL;VALUE=DURATION:PT1H
X-Robots-Tag:noindex
X-PUBLISHED-TTL:PT1H
BEGIN:VTIMEZONE
TZID:America/Los_Angeles
BEGIN:DAYLIGHT
TZOFFSETFROM:-0800
TZOFFSETTO:-0700
TZNAME:PDT
DTSTART:20250309T100000
END:DAYLIGHT
BEGIN:STANDARD
TZOFFSETFROM:-0700
TZOFFSETTO:-0800
TZNAME:PST
DTSTART:20251102T090000
END:STANDARD
BEGIN:DAYLIGHT
TZOFFSETFROM:-0800
TZOFFSETTO:-0700
TZNAME:PDT
DTSTART:20260308T100000
END:DAYLIGHT
BEGIN:STANDARD
TZOFFSETFROM:-0700
TZOFFSETTO:-0800
TZNAME:PST
DTSTART:20261101T090000
END:STANDARD
BEGIN:DAYLIGHT
TZOFFSETFROM:-0800
TZOFFSETTO:-0700
TZNAME:PDT
DTSTART:20270314T100000
END:DAYLIGHT
BEGIN:STANDARD
TZOFFSETFROM:-0700
TZOFFSETTO:-0800
TZNAME:PST
DTSTART:20271107T090000
END:STANDARD
END:VTIMEZONE
BEGIN:VEVENT
DTSTART;TZID=America/Los_Angeles:20260328T150000
DTEND;TZID=America/Los_Angeles:20260328T180000
DTSTAMP:20260423T120909
CREATED:20250929T171411Z
LAST-MODIFIED:20251218T232210Z
UID:10002374-1774710000-1774720800@www.washingtontastingroom.com
SUMMARY:Chandler Reach Live Music Saturdays
DESCRIPTION:Chandler Reach Estate Winery in Woodinville presents Live Music Saturdays. Live music on most Saturdays from 3-6pm. Tasting room is open 12-6pm daily. www.chandlerreach.com
URL:https://www.washingtontastingroom.com/event/chandler-reach-live-music-saturdays/2026-03-28
LOCATION:Chandler Reach Woodinville Tasting Room\, 14450 Woodinville-Redmond Rd.\, Woodinville\, WA\, 98072\, United States
ATTACH;FMTTYPE=image/jpeg:https://www.washingtontastingroom.com/wp-content/uploads/Chandler-Reach-Woodinville-e1580932926735.jpg
GEO:47.7322111;-122.1405252
X-APPLE-STRUCTURED-LOCATION;VALUE=URI;X-ADDRESS=Chandler Reach Woodinville Tasting Room 14450 Woodinville-Redmond Rd. Woodinville WA 98072 United States;X-APPLE-RADIUS=500;X-TITLE=14450 Woodinville-Redmond Rd.:geo:-122.1405252,47.7322111
END:VEVENT
BEGIN:VEVENT
DTSTART;VALUE=DATE:20260329
DTEND;VALUE=DATE:20260330
DTSTAMP:20260423T120909
CREATED:20251218T234551Z
LAST-MODIFIED:20251218T234551Z
UID:10002390-1774742400-1774828799@www.washingtontastingroom.com
SUMMARY:Capital Call Vintners Wine Tasting & Sunday Afternoon Jazz
DESCRIPTION:Taste through wine offerings of their estate vineyards in the Walla Walla Valley and Columbia Gorge AVA’s at the downtown tasting room. Beer\, light bites and charcuterie also available for purchase. Live jazz music the last Sunday of each month. Open daily 12-7pm. www.capitalcallvintners.com
URL:https://www.washingtontastingroom.com/event/capital-call-vintners-wine-tasting-sunday-afternoon-jazz/2026-03-29
LOCATION:Capital Call Vintners\, 11 N 2nd Ave\, Walla Walla\, 99362\, United States
ATTACH;FMTTYPE=image/jpeg:https://www.washingtontastingroom.com/wp-content/uploads/reviews_Capital-Call_2024-TR1.jpg
GEO:46.0670806;-118.3400415
X-APPLE-STRUCTURED-LOCATION;VALUE=URI;X-ADDRESS=Capital Call Vintners 11 N 2nd Ave Walla Walla 99362 United States;X-APPLE-RADIUS=500;X-TITLE=11 N 2nd Ave:geo:-118.3400415,46.0670806
END:VEVENT
BEGIN:VEVENT
DTSTART;VALUE=DATE:20260331
DTEND;VALUE=DATE:20260401
DTSTAMP:20260423T120909
CREATED:20251119T000420Z
LAST-MODIFIED:20251219T000511Z
UID:10002437-1774915200-1775001599@www.washingtontastingroom.com
SUMMARY:Hard Row to Hoe Vineyards Working Girl Special Tuesdays
DESCRIPTION:Hard Row to Hoe Vineyards tasting rooms in Manson & Leavenworth on Tuesdays offer a “Working Girl Special” cheese plate and select bottle of wine is just $25. Lake Chelan AVA-focused wines. Both locations open daily year-round. www.hardrow.com
URL:https://www.washingtontastingroom.com/event/hard-row-to-hoe-vineyards-working-girl-special-tuesdays/2026-03-31
LOCATION:Hard Row to Hoe\, 300 Ivan Morse Rd\, Manson\, WA\, 98831\, United States
ATTACH;FMTTYPE=image/jpeg:https://www.washingtontastingroom.com/wp-content/uploads/Hard-Row-to-Hoe-Chelan-Tasting-Room-e1752082384414.jpg
GEO:47.895259;-120.131335
X-APPLE-STRUCTURED-LOCATION;VALUE=URI;X-ADDRESS=Hard Row to Hoe 300 Ivan Morse Rd Manson WA 98831 United States;X-APPLE-RADIUS=500;X-TITLE=300 Ivan Morse Rd:geo:-120.131335,47.895259
END:VEVENT
BEGIN:VEVENT
DTSTART;TZID=America/Los_Angeles:20260402T140000
DTEND;TZID=America/Los_Angeles:20260402T200000
DTSTAMP:20260423T120909
CREATED:20250929T170515Z
LAST-MODIFIED:20251218T231241Z
UID:10002360-1775138400-1775160000@www.washingtontastingroom.com
SUMMARY:Tinte Cellars Seattle Vinyl Thursdays & All-Day Happy Hour
DESCRIPTION:Unwind at the Seattle tasting room in Georgetown while listening to vinyl albums from the eclectic collection. Wine & food specials. 2-8pm. Reservations online. www.tintecellars.com
URL:https://www.washingtontastingroom.com/event/tinte-cellars-seattle-vinyl-thursdays-all-day-happy-hour-2/2026-04-02
LOCATION:Tinte Cellars Seattle Georgetown\, 5951 Airport Way South\, Seattle\, WA\, 98108\, United States
ATTACH;FMTTYPE=image/jpeg:https://www.washingtontastingroom.com/wp-content/uploads/Tinte-calendar-Georgetown-Ext.jpg
GEO:47.549443;-122.3174177
X-APPLE-STRUCTURED-LOCATION;VALUE=URI;X-ADDRESS=Tinte Cellars Seattle Georgetown 5951 Airport Way South Seattle WA 98108 United States;X-APPLE-RADIUS=500;X-TITLE=5951 Airport Way South:geo:-122.3174177,47.549443
END:VEVENT
END:VCALENDAR